BEGIN:VCALENDAR
VERSION:2.0
PRODID:-//www.crvi.org//NONSGML kigkonsult.se iCalcreator 2.30.10//
CALSCALE:GREGORIAN
METHOD:PUBLISH
UID:93940933-45a9-4d54-879a-c4c128706406
X-WR-CALDESC:23rd Annual Crystal Run Village Foundation Golf Outing
X-WR-RELCALID:7ac7c2e771c16d467a8813ee805945d1
X-WR-TIMEZONE:America/New_York
BEGIN:VTIMEZONE
TZID:America/New_York
BEGIN:STANDARD
TZNAME:EST
DTSTART:20201101T020000
TZOFFSETFROM:-0400
TZOFFSETTO:-0500
RDATE:20211107T020000
RDATE:20221106T020000
END:STANDARD
BEGIN:DAYLIGHT
TZNAME:EDT
DTSTART:20210314T020000
TZOFFSETFROM:-0500
TZOFFSETTO:-0400
RDATE:20220313T020000
END:DAYLIGHT
END:VTIMEZONE
BEGIN:VEVENT
UID:7b71ecaf-25b3-414b-9a5a-cafb9bed628e
DTSTAMP:20260422T112217Z
DESCRIPTION:23rd Annual Crystal Run Village Foundation Golf Outing
DTSTART;TZID=America/New_York:20210607T083000
DTEND;TZID=America/New_York:20210607T170000
LOCATION:100 Otter Road\, Campbell Hall\, NY 10916 US
SUMMARY:CRVI Golf Outing
END:VEVENT
END:VCALENDAR
